BEGIN:VCALENDAR
VERSION:2.0
PRODID:-//Edgewall Software//NONSGML Trac 0.12.7//EN
METHOD:PUBLISH
X-WR-CALNAME:Toolmap 2 - Roadmap
BEGIN:VEVENT
UID:</toolmap2/milestone/2.6 Codename 'Meyrin'@trac.crealp.ch/toolmap2>
DTSTAMP:20131230T230000Z
DTSTART;VALUE=DATE:20131231
SUMMARY:Milestone 2.6 Codename 'Meyrin'
URL:https://trac.crealp.ch/toolmap2/milestone/2.6%20Codename%20'Meyrin'
END:VEVENT
BEGIN:VEVENT
UID:</toolmap2/milestone/later@trac.crealp.ch/toolmap2>
DTSTAMP:20141230T230000Z
DTSTART;VALUE=DATE:20141231
SUMMARY:Milestone later
URL:https://trac.crealp.ch/toolmap2/milestone/later
END:VEVENT
END:VCALENDAR
