BEGIN:VCALENDAR
VERSION:2.0
PRODID:-//Edgewall Software//NONSGML Trac 0.12.7//EN
METHOD:PUBLISH
X-WR-CALNAME:Ofev-CC - Roadmap
BEGIN:VEVENT
UID:</Ofev-CC/milestone/ImproveGPS@trac.crealp.ch/Ofev-CC>
DTSTAMP:20170630T100000Z
DTSTART;VALUE=DATE:20170630
SUMMARY:Milestone ImproveGPS
URL:https://trac.crealp.ch/Ofev-CC/milestone/ImproveGPS
END:VEVENT
BEGIN:VEVENT
UID:</Ofev-CC/milestone/Fin du projet - idée Guardaval2@trac.crealp.ch/Ofev
 -CC>
DTSTAMP:20171231T110000Z
DTSTART;VALUE=DATE:20171231
SUMMARY:Milestone Fin du projet - idée Guardaval2
URL:https://trac.crealp.ch/Ofev-CC/milestone/Fin%20du%20projet%20-%20id%C3%
 A9e%20Guardaval2
END:VEVENT
END:VCALENDAR
